BEGIN:VCALENDAR
VERSION:2.0
PRODID:-//MŠ Sulanského - ECPv5.9.0//NONSGML v1.0//EN
CALSCALE:GREGORIAN
METHOD:PUBLISH
X-WR-CALNAME:MŠ Sulanského
X-ORIGINAL-URL:https://mssulanskeho.cz
X-WR-CALDESC:Akce na MŠ Sulanského
BEGIN:VTIMEZONE
TZID:Europe/Prague
BEGIN:DAYLIGHT
TZOFFSETFROM:+0100
TZOFFSETTO:+0200
TZNAME:CEST
DTSTART:20240331T010000
END:DAYLIGHT
BEGIN:STANDARD
TZOFFSETFROM:+0200
TZOFFSETTO:+0100
TZNAME:CET
DTSTART:20241027T010000
END:STANDARD
END:VTIMEZONE
BEGIN:VEVENT
DTSTART;TZID=Europe/Prague:20240527T000000
DTEND;TZID=Europe/Prague:20240530T000000
DTSTAMP:20260425T160519
CREATED:20240521T134423Z
LAST-MODIFIED:20240527T191105Z
UID:1847-1716768000-1717027200@mssulanskeho.cz
SUMMARY:Olympiáda
DESCRIPTION:Vážení rodiče\, \nV pondělí 27.5. zahajujeme týdenní olympijské hry v mš. V pondělí proběhne zahájení a disciplíny na zahradě mš\, v úterý 28. 5. odcházíme sportovat na hřiště FC Háje. Sraz všech dětí ve školce je v 8\,00 hodin. \nOdcházíme všichni\, ve školce nikdo z pedagogů nezůstává !!! S sebou děti potřebují batůžek s lahvičkou na pití. Jídlo a pití na celé dopoledne zajišťuje mateřská škola. \nDejte dětem pohodlné sportovní oblečení (dle počasí) a zejména pohodlnou pevnou sportovní obuv a pokrývku hlavy! Návrat do MŠ na oběd. Ve středu nás opět čekají disciplíny na zahradě mě\, ve čtvrtek bude na zahradě slavnostní ukončení a vyhodnocení olympijských her. \nV pátek je již běžný provoz i plánované bruslení. \nDěkujeme za spolupráci
URL:https://mssulanskeho.cz/kalendar/olympiada-2/
CATEGORIES:kalendář,kalendář a hlavní stránka
END:VEVENT
END:VCALENDAR