BEGIN:VCALENDAR
VERSION:2.0
PRODID:-//MŠ Sulanského - ECPv5.9.0//NONSGML v1.0//EN
CALSCALE:GREGORIAN
METHOD:PUBLISH
X-WR-CALNAME:MŠ Sulanského
X-ORIGINAL-URL:https://mssulanskeho.cz
X-WR-CALDESC:Akce na MŠ Sulanského
BEGIN:VTIMEZONE
TZID:Europe/Prague
BEGIN:DAYLIGHT
TZOFFSETFROM:+0100
TZOFFSETTO:+0200
TZNAME:CEST
DTSTART:20260329T010000
END:DAYLIGHT
BEGIN:STANDARD
TZOFFSETFROM:+0200
TZOFFSETTO:+0100
TZNAME:CET
DTSTART:20261025T010000
END:STANDARD
END:VTIMEZONE
BEGIN:VEVENT
DTSTART;TZID=Europe/Prague:20260415T080000
DTEND;TZID=Europe/Prague:20260415T110000
DTSTAMP:20260425T160038
CREATED:20260331T111606Z
LAST-MODIFIED:20260331T111606Z
UID:2346-1776240000-1776250800@mssulanskeho.cz
SUMMARY:Fotograf
DESCRIPTION:Vážení rodiče\, \nrádi bychom Vás informovali\, že do naší mateřské školy přijde dne 15.04.2026 fotograf. \nBěhem dopoledne budou děti fotografovány po jednotlivých třídách. Prosíme tedy\, aby dětičky měly v tento den vhodné oblečení dle Vašich preferencí. Děkujeme.
URL:https://mssulanskeho.cz/kalendar/fotograf-2/
CATEGORIES:kalendář a hlavní stránka
END:VEVENT
END:VCALENDAR