BEGIN:VCALENDAR
VERSION:2.0
PRODID:-//MŠ Sulanského - ECPv5.9.0//NONSGML v1.0//EN
CALSCALE:GREGORIAN
METHOD:PUBLISH
X-WR-CALNAME:MŠ Sulanského
X-ORIGINAL-URL:https://mssulanskeho.cz
X-WR-CALDESC:Akce na MŠ Sulanského
BEGIN:VTIMEZONE
TZID:Europe/Prague
BEGIN:DAYLIGHT
TZOFFSETFROM:+0100
TZOFFSETTO:+0200
TZNAME:CEST
DTSTART:20260329T010000
END:DAYLIGHT
BEGIN:STANDARD
TZOFFSETFROM:+0200
TZOFFSETTO:+0100
TZNAME:CET
DTSTART:20261025T010000
END:STANDARD
END:VTIMEZONE
BEGIN:VEVENT
DTSTART;TZID=Europe/Prague:20260323T093000
DTEND;TZID=Europe/Prague:20260323T103000
DTSTAMP:20260425T160043
CREATED:20260319T122305Z
LAST-MODIFIED:20260319T122305Z
UID:2340-1774258200-1774261800@mssulanskeho.cz
SUMMARY:Divadlo Minor
DESCRIPTION:
URL:https://mssulanskeho.cz/kalendar/divadlo-minor-3/
CATEGORIES:kalendář bez hlavní stránky
END:VEVENT
END:VCALENDAR